BEGIN:VCALENDAR
VERSION:2.0
PRODID:-//ChamberMaster//Event Calendar 2.0//EN
METHOD:PUBLISH
X-PUBLISHED-TTL:P1H
REFRESH-INTERVAL:P1H
CALSCALE:GREGORIAN
BEGIN:VTIMEZONE
TZID:America/New_York
BEGIN:DAYLIGHT
RRULE:FREQ=YEARLY;BYMONTH=3;BYDAY=2SU
DTSTART:20070101T000000
TZOFFSETFROM:-0500
TZOFFSETTO:-0400
TZNAME:Eastern Daylight Time
END:DAYLIGHT
BEGIN:STANDARD
RRULE:FREQ=YEARLY;BYMONTH=11;BYDAY=1SU
DTSTART:20070101T000000
TZOFFSETFROM:-0400
TZOFFSETTO:-0500
TZNAME:Eastern Standard Time
END:STANDARD
END:VTIMEZONE
BEGIN:VEVENT
DTSTART;TZID=America/New_York:20250829T100000
DTEND;TZID=America/New_York:20250829T110000
X-MICROSOFT-CDO-ALLDAYEVENT:FALSE
SUMMARY:The Service Pros Ribbon Cutting Celebration!!!
DESCRIPTION:Please join The Service Pros Ribbon Cutting Community Celebration.  What started in a small garage with a few tools and a lot of heart has grown into a brand-new warehouse in the heart of the South Side Neighborhood.  Please come meet our team of licensed plumbers\, electricians\, roofers\, and HVAC pros.  Enjoy music\, refreshments\, giveaways\, neighborhood swag\, community vibes\, and connections.  See you there!  Smiles.
X-ALT-DESC;FMTTYPE=text/html:Please join The Service Pros Ribbon Cutting Community Celebration.  What started in a small garage with a few tools and a lot of heart has grown into a brand-new warehouse in the heart of the South Side Neighborhood.  Please come meet our team of licensed plumbers\, electricians\, roofers\, and HVAC pros.  Enjoy music\, refreshments\, giveaways\, neighborhood swag\, community vibes\, and connections.  See you there!  Smiles.
LOCATION:1700 4th St. S. Unit C St. Petersburg FL 33701
UID:e.2658.1248548
SEQUENCE:3
DTSTAMP:20260422T095753Z
URL:https://business.stpete.com/eventcalendar/Details/the-service-pros-ribbon-cutting-celebration-1459704?sourceTypeId=Hub
END:VEVENT
END:VCALENDAR
