BEGIN:VCALENDAR
VERSION:2.0
PRODID:-//ChamberMaster//Event Calendar 2.0//EN
METHOD:PUBLISH
X-PUBLISHED-TTL:P1H
REFRESH-INTERVAL:P1H
CALSCALE:GREGORIAN
BEGIN:VTIMEZONE
TZID:America/New_York
BEGIN:DAYLIGHT
RRULE:FREQ=YEARLY;BYMONTH=3;BYDAY=2SU
DTSTART:20070101T000000
TZOFFSETFROM:-0500
TZOFFSETTO:-0400
TZNAME:Eastern Daylight Time
END:DAYLIGHT
BEGIN:STANDARD
RRULE:FREQ=YEARLY;BYMONTH=11;BYDAY=1SU
DTSTART:20070101T000000
TZOFFSETFROM:-0400
TZOFFSETTO:-0500
TZNAME:Eastern Standard Time
END:STANDARD
END:VTIMEZONE
BEGIN:VEVENT
DTSTART;TZID=America/New_York:20260219T160000
DTEND;TZID=America/New_York:20260219T193000
X-MICROSOFT-CDO-ALLDAYEVENT:FALSE
SUMMARY:MIIS Wellness Institute Grand Opening Ribbon Cutting Celebration!!!
DESCRIPTION:MIIS Wellness Institute Celebrates Grand Opening in St. Petersburg with One-Night-Only Wellness Event and Exclusive VIP Pricing St. Petersburg\, FL   MIIS Wellness Institute\, St. Petersburg's newest destination for physician-led medical weight loss\, aesthetics\, body sculpting\, and IV wellness\, is celebrating its official Grand Opening with a special ribbon cutting community event on Thursday\, February 19\, 2026\, from 5:30 to 7:30 PM\, at its new location at 2191 9th North Street\, Suite 280.The one-night-only Grand Opening celebration will offer attendees an inside look at MIIS Wellness Institute's modern\, patient-focused space while providing access to exclusive event-only pricing\, including 50% off Venus Bliss body contouring packages and 50% off IV hydration therapy packages\, available only during the event. Guests are invited to tour the facility\, meet the professional team led by Dr. Kevin Huguet\, enjoy live demonstrations of the Venus Bliss Max body contouring technology\, and participate in a Botox Q&A session with expert injectors. The evening will also feature raffle prizes\, giveaways\, complimentary hors d'oeuvres and refreshments\, and interactive photo opportunities designed for social sharing. \n"MIIS Wellness Institute was created to provide a comprehensive\, medically guided approach to wellness\, where weight loss\, aesthetics\, and preventative care come together under one roof\," said Dr. Kevin Huguet\, Medical Director for the MIIS Wellness Institute. "Our Grand Opening is an opportunity for the community to experience our approach firsthand while enjoying exclusive offerings and demonstrations."\n Attendance is limited\, and RSVP is required. Community members interested in attending are encouraged to reserve their spot in advance. \nRegister at https://www.eventbrite.com/e/grand-opening-miis-wellness-institute-tickets-1980028821506 \nAbout MIIS Wellness Institute MIIS Wellness Institute is a physician-led wellness destination offering evidence-based medical weight loss\, advanced body contouring\, aesthetic services\, and IV therapy. With a focus on personalized care and sustainable results\, MIIS Wellness Institute empowers patients to look better\, feel stronger\, and live healthier guided by medical expertise and modern wellness technology.
X-ALT-DESC;FMTTYPE=text/html:<!DOCTYPE html><html><head><title></title></head><body aria-disabled="false"><p><span style="font-family: Georgia\,serif\;">MIIS Wellness Institute Celebrates Grand Opening in St. Petersburg with One-Night-Only Wellness Event and Exclusive VIP Pricing&nbsp\;</span></p><p><span style="font-family: Georgia\,serif\;">St. Petersburg\, FL &mdash\; MIIS Wellness Institute\, St. Petersburg&rsquo\;s newest destination for physician-led medical weight loss\, aesthetics\, body sculpting\, and IV wellness\, is celebrating its official Grand Opening with a special ribbon cutting community event on Thursday\, February 19\, 2026\, from 5:30 to 7:30 PM\, at its new location at 2191 9th North Street\, Suite 280.</span></p><p><span style="font-family: Georgia\,serif\;">The one-night-only Grand Opening celebration will offer attendees an inside look at MIIS Wellness Institute&rsquo\;s modern\, patient-focused space while providing access to exclusive event-only pricing\, including 50% off Venus Bliss body contouring packages and 50% off IV hydration therapy packages\, available only during the event. Guests are invited to tour the facility\, meet the professional team led by Dr. Kevin Huguet\, enjoy live demonstrations of the Venus Bliss Max body contouring technology\, and participate in a Botox Q&amp\;A session with expert injectors. The evening will also feature raffle prizes\, giveaways\, complimentary hors d&rsquo\;oeuvres and refreshments\, and interactive photo opportunities designed for social sharing.&nbsp\;</span></p><p><span style="font-family: Georgia\,serif\;"><br></span></p><p><span style="font-family: Georgia\,serif\;">&quot\;MIIS Wellness Institute was created to provide a comprehensive\, medically guided approach to wellness\, where weight loss\, aesthetics\, and preventative care come together under one roof\,&rdquo\; said Dr. Kevin Huguet\, Medical Director for the MIIS Wellness Institute. &ldquo\;Our Grand Opening is an opportunity for the community to experience our approach firsthand while enjoying exclusive offerings and demonstrations.&quot\;</span></p><p><span style="font-family: Georgia\,serif\;"><br></span></p><p><span style="font-family: Georgia\,serif\;">&nbsp\;Attendance is limited\, and RSVP is required. Community members interested in attending are encouraged to reserve their spot in advance.&nbsp\;</span></p><p><span style="font-family: Georgia\,serif\;"><br></span></p><p><span style="font-family: Georgia\,serif\;">Register at <a fr-original-style="" href="https://www.eventbrite.com/e/grand-opening-miis-wellness-institute-tickets-1980028821506" style="user-select: auto\;">https://www.eventbrite.com/e/grand-opening-miis-wellness-institute-tickets-1980028821506</a>&nbsp\;</span></p><p><span style="font-family: Georgia\,serif\;"><br></span></p><p><span style="font-family: Georgia\,serif\;">About MIIS Wellness Institute MIIS Wellness Institute is a physician-led wellness destination offering evidence-based medical weight loss\, advanced body contouring\, aesthetic services\, and IV therapy. With a focus on personalized care and sustainable results\, MIIS Wellness Institute empowers patients to look better\, feel stronger\, and live healthier&mdash\;guided by medical expertise and modern wellness technology.</span></p></body></html>
LOCATION:2191 9th Avenue N ste 280 Saint Petersburg FL 33713
UID:e.2658.1387836
SEQUENCE:3
DTSTAMP:20260422T100432Z
URL:https://business.stpete.com/eventcalendar/Details/miis-wellness-institute-grand-opening-ribbon-cutting-celebration-1639109?sourceTypeId=Hub
END:VEVENT
END:VCALENDAR
