BEGIN:VCALENDAR
VERSION:2.0
PRODID:-//ChamberMaster//Event Calendar 2.0//EN
METHOD:PUBLISH
X-PUBLISHED-TTL:P1H
REFRESH-INTERVAL:P1H
CALSCALE:GREGORIAN
BEGIN:VTIMEZONE
TZID:America/New_York
BEGIN:DAYLIGHT
RRULE:FREQ=YEARLY;BYMONTH=3;BYDAY=2SU
DTSTART:20070101T000000
TZOFFSETFROM:-0500
TZOFFSETTO:-0400
TZNAME:Eastern Daylight Time
END:DAYLIGHT
BEGIN:STANDARD
RRULE:FREQ=YEARLY;BYMONTH=11;BYDAY=1SU
DTSTART:20070101T000000
TZOFFSETFROM:-0400
TZOFFSETTO:-0500
TZNAME:Eastern Standard Time
END:STANDARD
END:VTIMEZONE
BEGIN:VEVENT
DTSTART;TZID=America/New_York:20250930T180000
DTEND;TZID=America/New_York:20250930T200000
X-MICROSOFT-CDO-ALLDAYEVENT:FALSE
SUMMARY:Gua Sha & Inner–Outer Beauty Secrets (Hands-On Workshop)
DESCRIPTION:✨ Gua Sha Facial Workshop with Marybella Beauty & Elevated Healing Collective✨ 🌿Date: Tuesday\, September 30 at 6:00 PM\n📍 Location: Marybella Beauty skin spa inside (Elevated Healing Collective)      4021 Central Ave\, Suite C\, Saint Petersburg\, FL 33713 Limited spots Available $40Join us for a relaxing and educational evening at Marybella Beauty Skin Spa inside the Elevated Healing Collective in Saint Petersburg. Led by Master Clinical & Holistic Esthetician\, Maribel Chilmaza\, this workshop will introduce you to the ancient art of Gua Sha\, a traditional Chinese facial technique that improves circulation\, reduces puffiness\, relieves tension\, and promotes a natural\, youthful glow. We are excited to also welcome Dr. Chelsea Green\, co-owner of Elevated Healing Collective\, who will share her holistic perspective on wellness\, self-care\, and the mind-body connection.During this hands-on workshop\, you'll:Learn the proper techniques for at-home Gua Sha practice.Discover how Gua Sha enhances the results of your professional facials.Experience guided facial massage movements to release jaw tension and lift facial contours.Gain wellness insights from Dr. Green to support balance and whole-body vitality.Take home knowledge that helps maintain radiant\, healthy skin between spa visits.This event is perfect for anyone interested in holistic beauty\, anti-aging skincare\, and self-care rituals. Spaces are limited\, reserve your spot today and discover how Gua Sha can transform your skincare routine.\nRESERVE YOUR SPOT HERE
X-ALT-DESC;FMTTYPE=text/html:<!DOCTYPE html><html><head><title></title></head><body aria-disabled="false"><p>✨ <strong data-end="503" data-start="424" fr-original-style="" style="font-weight: 700\;">Gua Sha Facial Workshop with Marybella Beauty &amp\; Elevated Healing Collective✨</strong></p><p>&nbsp\;🌿<strong data-end="1136" data-start="1127" fr-original-style="" style="font-weight: 700\;">Date:</strong> Tuesday\, September 30 at 6:00 PM<br data-start="1169" data-end="1172">📍 <strong data-end="1188" data-start="1175" fr-original-style="" style="font-weight: 700\;">Location:</strong> Marybella Beauty skin spa inside (Elevated Healing Collective)</p><p>&nbsp\; &nbsp\; &nbsp\; 4021 Central Ave\, Suite C\, Saint Petersburg\, FL 33713&nbsp\;</p><p>Limited spots Available $40</p><p>Join us for a relaxing and educational evening at <strong data-end="627" data-start="559" fr-original-style="" style="font-weight: 700\;">Marybella Beauty Skin Spa inside the Elevated Healing Collective</strong> in Saint Petersburg. Led by <strong data-end="716" data-start="656" fr-original-style="" style="font-weight: 700\;">Master Clinical &amp\; Holistic Esthetician\, Maribel Chilmaza</strong>\, this workshop will introduce you to the ancient art of <strong data-end="784" data-start="773" fr-original-style="" style="font-weight: 700\;">Gua Sha</strong>\, a traditional Chinese facial technique that improves circulation\, reduces puffiness\, relieves tension\, and promotes a natural\, youthful glow.&nbsp\;</p><p>We are excited to also welcome <strong data-end="1021" data-start="962" fr-original-style="" style="font-weight: 700\;">Dr. Chelsea Green\, co-owner of Elevated Healing Collective</strong>\, who will share her holistic perspective on wellness\, self-care\, and the mind-body connection.</p><p data-end="802" data-start="762">During this hands-on workshop\, you&rsquo\;ll:</p><ul fr-original-style="" style="list-style-position: inside\;"><li data-end="864" data-start="805">Learn the proper techniques for at-home Gua Sha practice.</li><li data-end="940" data-start="867">Discover how Gua Sha enhances the results of your professional facials.</li><li data-end="1036" data-start="943">Experience guided facial massage movements to release jaw tension and lift facial contours.</li><li data-end="1036" data-start="943">Gain wellness insights from Dr. Green to support balance and whole-body vitality.</li><li data-end="1122" data-start="1039">Take home knowledge that helps maintain radiant\, healthy skin between spa visits.</li></ul><p>This event is perfect for anyone interested in <strong data-end="1386" data-start="1323" fr-original-style="" style="font-weight: 700\;">holistic beauty\, anti-aging skincare\, and self-care rituals</strong>. Spaces are limited\, reserve your spot today and discover how Gua Sha can transform your skincare routine.</p><p><br></p><p><a fr-original-style="" href="https://www.marybellabeauty.com/product/gua-sha-inner-outer-beauty-secrets-hands-on-workshop-/MBNRCYFKTVT43KRE2JI7WSQI?cs=true&cst=custom" rel="noopener noreferrer" style="user-select: auto\;" target="_blank">RESERVE YOUR SPOT HERE</a></p></body></html>
LOCATION:4021 Central Ave Suite C Saint Petersburg FL 33713
UID:e.2658.1266211
SEQUENCE:3
DTSTAMP:20260421T162850Z
URL:https://business.stpete.com/eventcalendar/Details/gua-sha-inner-outer-beauty-secrets-hands-on-workshop-1482468?sourceTypeId=Hub
END:VEVENT
END:VCALENDAR
