BEGIN:VCALENDAR
VERSION:2.0
PRODID:-//ChamberMaster//Event Calendar 2.0//EN
METHOD:PUBLISH
X-PUBLISHED-TTL:P1H
REFRESH-INTERVAL:P1H
CALSCALE:GREGORIAN
BEGIN:VTIMEZONE
TZID:America/New_York
BEGIN:DAYLIGHT
RRULE:FREQ=YEARLY;BYMONTH=3;BYDAY=2SU
DTSTART:20070101T000000
TZOFFSETFROM:-0500
TZOFFSETTO:-0400
TZNAME:Eastern Daylight Time
END:DAYLIGHT
BEGIN:STANDARD
RRULE:FREQ=YEARLY;BYMONTH=11;BYDAY=1SU
DTSTART:20070101T000000
TZOFFSETFROM:-0400
TZOFFSETTO:-0500
TZNAME:Eastern Standard Time
END:STANDARD
END:VTIMEZONE
BEGIN:VEVENT
DTSTART;TZID=America/New_York:20250916T100000
DTEND;TZID=America/New_York:20250916T120000
X-MICROSOFT-CDO-ALLDAYEVENT:FALSE
SUMMARY:Code Wiz One Year Anniversary Ribbon Cutting Celebration!!!
DESCRIPTION:Come join us as we celebrate Code Wiz surviving a flood and a year in business!!! We are proudly serving four satellite programs with more upcoming and hoping to open our second center in the South Side of our wonderful City in 2026. Help us celebrate "the year that was" with refreshments as you meet the team\, network\, and see what makes our St. Pete so great. See you there. Smiles.
X-ALT-DESC;FMTTYPE=text/html:<!DOCTYPE html><html><head><title></title></head><body aria-disabled="false"><p>Come join us as we celebrate Code Wiz surviving a flood and a year in business!!! We are proudly serving four satellite programs with more upcoming and hoping to open our second center in the South Side of our wonderful City in 2026. Help us celebrate &quot\;the year that was&quot\; with refreshments as you meet the team\, network\, and see what makes our St. Pete so great. See you there. Smiles.</p></body></html>
LOCATION:956 62nd Ave. N. St. Petersburg FL 33702
UID:e.2658.1267266
SEQUENCE:3
DTSTAMP:20260422T095853Z
URL:https://business.stpete.com/eventcalendar/Details/code-wiz-one-year-anniversary-ribbon-cutting-celebration-1483729?sourceTypeId=Hub
END:VEVENT
END:VCALENDAR
